BEGIN:VCALENDAR
VERSION:2.0
PRODID:-//VDLOE - ECPv6.15.18//NONSGML v1.0//EN
CALSCALE:GREGORIAN
METHOD:PUBLISH
X-WR-CALNAME:VDLOE
X-ORIGINAL-URL:https://www.vdloe.at
X-WR-CALDESC:Veranstaltungen für VDLOE
REFRESH-INTERVAL;VALUE=DURATION:PT1H
X-Robots-Tag:noindex
X-PUBLISHED-TTL:PT1H
BEGIN:VTIMEZONE
TZID:Europe/Vienna
BEGIN:DAYLIGHT
TZOFFSETFROM:+0100
TZOFFSETTO:+0200
TZNAME:CEST
DTSTART:20260329T010000
END:DAYLIGHT
BEGIN:STANDARD
TZOFFSETFROM:+0200
TZOFFSETTO:+0100
TZNAME:CET
DTSTART:20261025T010000
END:STANDARD
BEGIN:DAYLIGHT
TZOFFSETFROM:+0100
TZOFFSETTO:+0200
TZNAME:CEST
DTSTART:20270328T010000
END:DAYLIGHT
BEGIN:STANDARD
TZOFFSETFROM:+0200
TZOFFSETTO:+0100
TZNAME:CET
DTSTART:20271031T010000
END:STANDARD
BEGIN:DAYLIGHT
TZOFFSETFROM:+0100
TZOFFSETTO:+0200
TZNAME:CEST
DTSTART:20280326T010000
END:DAYLIGHT
BEGIN:STANDARD
TZOFFSETFROM:+0200
TZOFFSETTO:+0100
TZNAME:CET
DTSTART:20281029T010000
END:STANDARD
END:VTIMEZONE
BEGIN:VEVENT
DTSTART;TZID=Europe/Vienna:20270116T123000
DTEND;TZID=Europe/Vienna:20270116T165000
DTSTAMP:20260419T145229
CREATED:20210830T081611Z
LAST-MODIFIED:20260331T095334Z
UID:10000091-1800102600-1800118200@www.vdloe.at
SUMMARY:Yoga (Hatha-Yoga)
DESCRIPTION:Anmeldung×\n\n\n                \n                        \n                            VDLÖ - Yoga\n                             \n							„*“ zeigt erforderliche Felder an \n                        \n                        LinkedInDieses Feld dient zur Validierung und sollte nicht verändert werden.Vorname*Nachname*Geburtsdatum\n                            \n                            TT Punkt MM Punkt JJJJ\n                        \n                        StraßePostleitzahlOrtTelefonE-Mail*\n                            \n                        Bitte gib hier die Anzahl der Begleitpersonen bekannt!keine Begleitperson1 Begleitperson2 Begleitpersonen3 BegleitpersonenAngaben zur Begleitperson 1Vorname Nachname Begleitperson 1SozialversicherungsnummerAngaben zur Begleitperson 2Vorname Nachname Begleitperson 2SozialversicherungsnummerAngaben zur Begleitperson 3Vorname Nachname Begleitperson 3SozialversicherungsnummerDieses Feld wird bei der Anzeige des Formulars ausgeblendetDatenschutzerklärungDatenschutzerklärung* Ich stimme der Datenschutzerklärung zu\n          \n            \n            \n            \n            \n            \n            \n            \n            \n            \n            \n            \n            \n            \n        \n                        \n                        \n		                \n		                \n\nVeranstaltungsdetails
URL:https://www.vdloe.at/event/yoga-hatha-yoga/
LOCATION:Längenfeldgasse\, Längenfeldgasse 13-15\, Wien\, 1120\, Österreich
CATEGORIES:Indoor
ATTACH;FMTTYPE=image/jpeg:https://www.vdloe.at/wp-content/uploads/2024/05/12_Yoga-1.jpg
ORGANIZER;CN="Mag. Petra Ried":MAILTO:p.ried@gmx.at
GEO:48.1826257;16.3389565
X-APPLE-STRUCTURED-LOCATION;VALUE=URI;X-ADDRESS=Längenfeldgasse Längenfeldgasse 13-15 Wien 1120 Österreich;X-APPLE-RADIUS=500;X-TITLE=Längenfeldgasse 13-15:geo:16.3389565,48.1826257
END:VEVENT
END:VCALENDAR